BEGIN:VCALENDAR
VERSION:2.0
PRODID:icalendar-ruby
CALSCALE:GREGORIAN
METHOD:PUBLISH
BEGIN:VEVENT
DTSTAMP:20260426T010025Z
UID:24-1984880@easterngatechurch.org
DTSTART:20261102T010000Z
DTEND:20261102T020000Z
CLASS:PUBLIC
CREATED:20260425T221927
DESCRIPTION:All are welcome to join us for a time of fellowship and food af
 ter each evening service!
LAST-MODIFIED:20260425T221927
LOCATION:
SUMMARY:Oasis Cafe
URL;VALUE=URI:https://easterngatechurch.org/events/oasis-cafe/2026-11-01
ATTACH;FILENAME=Oasis.jpg;FMTTYPE=image/jpeg:https://dq5pwpg1q8ru0.cloudfro
 nt.net/2022/09/23/11/41/43/f5441bc0-91c6-40ed-aebc-c306fae9d721/Oasis.jpg
END:VEVENT
END:VCALENDAR
